BEGIN:VCALENDAR
VERSION:2.0
PRODID:-//ELB-ENGER.DE - ECPv6.1.2.2//NONSGML v1.0//EN
CALSCALE:GREGORIAN
METHOD:PUBLISH
X-WR-CALNAME:ELB-ENGER.DE
X-ORIGINAL-URL:https://elb-enger.de
X-WR-CALDESC:Veranstaltungen für ELB-ENGER.DE
REFRESH-INTERVAL;VALUE=DURATION:PT1H
X-Robots-Tag:noindex
X-PUBLISHED-TTL:PT1H
BEGIN:VTIMEZONE
TZID:Europe/Berlin
BEGIN:DAYLIGHT
TZOFFSETFROM:+0100
TZOFFSETTO:+0200
TZNAME:CEST
DTSTART:20230326T010000
END:DAYLIGHT
BEGIN:STANDARD
TZOFFSETFROM:+0200
TZOFFSETTO:+0100
TZNAME:CET
DTSTART:20231029T010000
END:STANDARD
END:VTIMEZONE
BEGIN:VEVENT
DTSTART;TZID=Europe/Berlin:20230319T100000
DTEND;TZID=Europe/Berlin:20230319T113000
DTSTAMP:20260425T133953
CREATED:20230216T182400Z
LAST-MODIFIED:20230216T182400Z
UID:2737-1679220000-1679225400@elb-enger.de
SUMMARY:Sonntagsgottesdienst (mit Rainer Becker)
DESCRIPTION:Herzlich Willkommen zu unseren Hauptgottesdienst\, heute mit Rainer Becker von der Marburger Mission. Er wird die Predigt halten und aus der Mission berichten.
URL:https://elb-enger.de/veranstaltung/sonntagsgottesdienst-3/
LOCATION:Ev. Lutherische Brüdergemeinde Enger\, Dürkoppstraße 1\, Enger\, 32130\, Deutschland
CATEGORIES:Gemeindeveranstaltungen,Gottesdienste
ATTACH;FMTTYPE=image/jpeg:https://elb-enger.de/wp-content/uploads/2022/04/Gottesdienst-am-Sonntag-2000-x-800.jpg
END:VEVENT
END:VCALENDAR